BEGIN:VCALENDAR
VERSION:2.0
PRODID:-//Collectief Teder - ECPv6.15.20//NONSGML v1.0//EN
CALSCALE:GREGORIAN
METHOD:PUBLISH
X-WR-CALNAME:Collectief Teder
X-ORIGINAL-URL:https://www.collectiefteder.nl
X-WR-CALDESC:Evenementen voor Collectief Teder
REFRESH-INTERVAL;VALUE=DURATION:PT1H
X-Robots-Tag:noindex
X-PUBLISHED-TTL:PT1H
BEGIN:VTIMEZONE
TZID:Europe/Amsterdam
BEGIN:DAYLIGHT
TZOFFSETFROM:+0100
TZOFFSETTO:+0200
TZNAME:CEST
DTSTART:20250330T010000
END:DAYLIGHT
BEGIN:STANDARD
TZOFFSETFROM:+0200
TZOFFSETTO:+0100
TZNAME:CET
DTSTART:20251026T010000
END:STANDARD
BEGIN:DAYLIGHT
TZOFFSETFROM:+0100
TZOFFSETTO:+0200
TZNAME:CEST
DTSTART:20260329T010000
END:DAYLIGHT
BEGIN:STANDARD
TZOFFSETFROM:+0200
TZOFFSETTO:+0100
TZNAME:CET
DTSTART:20261025T010000
END:STANDARD
BEGIN:DAYLIGHT
TZOFFSETFROM:+0100
TZOFFSETTO:+0200
TZNAME:CEST
DTSTART:20270328T010000
END:DAYLIGHT
BEGIN:STANDARD
TZOFFSETFROM:+0200
TZOFFSETTO:+0100
TZNAME:CET
DTSTART:20271031T010000
END:STANDARD
END:VTIMEZONE
BEGIN:VEVENT
DTSTART;TZID=Europe/Amsterdam:20260516T000000
DTEND;TZID=Europe/Amsterdam:20260516T235959
DTSTAMP:20260420T135605
CREATED:20260411T111331Z
LAST-MODIFIED:20260411T111332Z
UID:739-1778889600-1778975999@www.collectiefteder.nl
SUMMARY:Pretty Privilege
DESCRIPTION:Hoogte80 Festival in Arnhem.
URL:https://www.collectiefteder.nl/agenda/pretty-privilege-2/
END:VEVENT
BEGIN:VEVENT
DTSTART;TZID=Europe/Amsterdam:20260517T000000
DTEND;TZID=Europe/Amsterdam:20260517T235959
DTSTAMP:20260420T135605
CREATED:20260411T111219Z
LAST-MODIFIED:20260411T111739Z
UID:737-1778976000-1779062399@www.collectiefteder.nl
SUMMARY:Pretty Privilege
DESCRIPTION:Hoogte80 Festival in Arnhem.
URL:https://www.collectiefteder.nl/agenda/pretty-privilege/
END:VEVENT
BEGIN:VEVENT
DTSTART;TZID=Europe/Amsterdam:20260523T000000
DTEND;TZID=Europe/Amsterdam:20260523T235959
DTSTAMP:20260420T135605
CREATED:20260411T111504Z
LAST-MODIFIED:20260411T111505Z
UID:743-1779494400-1779580799@www.collectiefteder.nl
SUMMARY:Pretty Privilege
DESCRIPTION:O. Festival in Rotterdam.
URL:https://www.collectiefteder.nl/agenda/pretty-privilege-4/
END:VEVENT
BEGIN:VEVENT
DTSTART;TZID=Europe/Amsterdam:20260524T000000
DTEND;TZID=Europe/Amsterdam:20260524T235959
DTSTAMP:20260420T135605
CREATED:20260411T111430Z
LAST-MODIFIED:20260411T111757Z
UID:741-1779580800-1779667199@www.collectiefteder.nl
SUMMARY:Pretty Privilege
DESCRIPTION:O. Festival in Rotterdam.
URL:https://www.collectiefteder.nl/agenda/pretty-privilege-3/
END:VEVENT
BEGIN:VEVENT
DTSTART;TZID=Europe/Amsterdam:20260527T000000
DTEND;TZID=Europe/Amsterdam:20260527T235959
DTSTAMP:20260420T135605
CREATED:20260411T111944Z
LAST-MODIFIED:20260411T111945Z
UID:747-1779840000-1779926399@www.collectiefteder.nl
SUMMARY:Pretty Privilege
DESCRIPTION:Delft Fringe Festival in Delft.
URL:https://www.collectiefteder.nl/agenda/pretty-privilege-6/
END:VEVENT
BEGIN:VEVENT
DTSTART;TZID=Europe/Amsterdam:20260528T000000
DTEND;TZID=Europe/Amsterdam:20260528T235959
DTSTAMP:20260420T135605
CREATED:20260411T111609Z
LAST-MODIFIED:20260411T111841Z
UID:745-1779926400-1780012799@www.collectiefteder.nl
SUMMARY:Pretty Privilege
DESCRIPTION:Delft Fringe Festival in Delft.
URL:https://www.collectiefteder.nl/agenda/pretty-privilege-5/
END:VEVENT
BEGIN:VEVENT
DTSTART;TZID=Europe/Amsterdam:20260529T000000
DTEND;TZID=Europe/Amsterdam:20260529T235959
DTSTAMP:20260420T135605
CREATED:20260411T112100Z
LAST-MODIFIED:20260411T112102Z
UID:749-1780012800-1780099199@www.collectiefteder.nl
SUMMARY:Pretty Privilege
DESCRIPTION:YIMBY Festival\, Karavaan Festival in Alkmaar.
URL:https://www.collectiefteder.nl/agenda/pretty-privilege-7/
END:VEVENT
BEGIN:VEVENT
DTSTART;TZID=Europe/Amsterdam:20260606T000000
DTEND;TZID=Europe/Amsterdam:20260606T235959
DTSTAMP:20260420T135605
CREATED:20260411T112214Z
LAST-MODIFIED:20260411T112215Z
UID:753-1780704000-1780790399@www.collectiefteder.nl
SUMMARY:Pretty Privilege
DESCRIPTION:Delft Fringe Festival in Delft.
URL:https://www.collectiefteder.nl/agenda/pretty-privilege-9/
END:VEVENT
BEGIN:VEVENT
DTSTART;TZID=Europe/Amsterdam:20260607T000000
DTEND;TZID=Europe/Amsterdam:20260607T235959
DTSTAMP:20260420T135605
CREATED:20260411T112135Z
LAST-MODIFIED:20260411T112231Z
UID:751-1780790400-1780876799@www.collectiefteder.nl
SUMMARY:Pretty Privilege
DESCRIPTION:Delft Fringe Festival in Delft.
URL:https://www.collectiefteder.nl/agenda/pretty-privilege-8/
END:VEVENT
BEGIN:VEVENT
DTSTART;TZID=Europe/Amsterdam:20260703T000000
DTEND;TZID=Europe/Amsterdam:20260703T235959
DTSTAMP:20260420T135605
CREATED:20260411T112328Z
LAST-MODIFIED:20260411T112329Z
UID:755-1783036800-1783123199@www.collectiefteder.nl
SUMMARY:Pretty Privilege
DESCRIPTION:Festival Der Aa in Schipborg.
URL:https://www.collectiefteder.nl/agenda/pretty-privilege-10/
END:VEVENT
BEGIN:VEVENT
DTSTART;TZID=Europe/Amsterdam:20260815T000000
DTEND;TZID=Europe/Amsterdam:20260815T235959
DTSTAMP:20260420T135605
CREATED:20260411T112509Z
LAST-MODIFIED:20260411T112510Z
UID:759-1786752000-1786838399@www.collectiefteder.nl
SUMMARY:De Heksenhamer
DESCRIPTION:Limburg Festival in Limburg.
URL:https://www.collectiefteder.nl/agenda/de-heksenhamer-8/
END:VEVENT
BEGIN:VEVENT
DTSTART;TZID=Europe/Amsterdam:20260904T000000
DTEND;TZID=Europe/Amsterdam:20260904T235959
DTSTAMP:20260420T135605
CREATED:20260411T112417Z
LAST-MODIFIED:20260411T112418Z
UID:757-1788480000-1788566399@www.collectiefteder.nl
SUMMARY:Pretty Privilege
DESCRIPTION:Festival De Oversteek in Nijmegen.
URL:https://www.collectiefteder.nl/agenda/pretty-privilege-11/
END:VEVENT
END:VCALENDAR